Workbook

Sheet Export Summary
B3: This document was exported from Numbers. Each table was converted to an Excel worksheet. All other objects on each Numbers sheet were placed on separate worksheets. Please be aware that formula calculations may differ in Excel.
B7: Numbers Sheet Name | C7: Numbers Table Name | D7: Excel Worksheet Name
B9: Taotlus
C10: Table 1 | D10: Taotlus
B11: Eelarve
C12: Table 1 | D12: Eelarve
B13: Sisuline aruanne
C14: Table 1 | D14: Sisuline aruanne
B15: Finantsaruanne
C16: Table 1 | D16: Finantsaruanne

Sheet Taotlus
B1: Haridus- ja Teadusministeerium
B2: Eesti Keele Instituut
B5: Väliseesti haridusprojektide toetuse taotlus 2026
B7: Projektitaotlus
A10: 1. | B10: Informatsioon taotleja kohta
B11: Taotleja juriidiline nimi (ärinimi)
B12: Registrikood (olemasolul)
B13: Juriidiline aadress
B14: Kontaktaadress
B15: Allkirjaõigusliku isiku nimi
B16: Kontakttelefon
B17: E-posti aadress
B18: Projektijuhi nimi (kui on erinev allkirjaõiguslikust isikust)
B19: Kontakttelefon
B20: E-posti aadress
A22: 2. | B22: Pangaandmed
B23: Kontoomaniku (asutuse) täpne nimi
B24: Kontoomaniku aadress
B25: Pangakonto number (sh IBAN/BIC/SWIFT kood)
B26: Panga nimi
B27: Korrespondentpanga täpne nimi ja SWIFT/BIC kood (vajadusel)
A29: 3. | B29: Taotletav toetus Eesti Keele Instituudilt (eurodes) *Summad kanduvad automaatselt üle Eelarve vormi täitmisel | E29: =Eelarve!E54 -> 0
A31: 4. | B31: Projekti kestus
B32: Projekt algab mitte varem kui 1. jaanuar 2026 | E32: [pp.kk.aaaa]
B33: Projekt lõpeb mitte hiljem kui 31.detsember 2026 | E33: [pp.kk.aaaa]
B34: Ajavahemikku peab mahtuma nii projekti sisuline osa kui ka tehtud kulutused, sh väljamaksed
A36: 5. | B36: Projekti nimi
A37: 6. | B37: Projekti lühikirjeldus, eesmärgid ja sihtrühma kirjeldus
A38: 6.1. | B38: Kirjeldage lühidalt projekti sisu. Õppetegevuse toetuse korral märkige lisaks planeeritud koolipäevade ja tundide arv.
A39: 6.2. | B39: Kirjeldage projekti seotust taotlusvooru eesmärkidega ja selgitage, kuidas toetab projekt välismaal elavate laste ja noorte eesti keele ja identiteedi säilimist ning kogukonna püsimist ja laienemist.
A40: 6.4. | B40: Kirjeldage projektis otseseid ja kaudseid osalejaid. Märkige hinnanguline osalejate arv, eraldi märkige õpilaste ja õpetajate arv.
A42: 7. | B42: Projekti tegevuste toimumise ajad, kohad ja kirjeldus
B43: Jrk nr | C43: Projekti tegevuste aeg ja koht | D43: Projekti tegevuste kirjeldus
B44: 1
B45: 2
B46: 3
B47: 4
B48: 5
B49: 6
B50: 7
B51: 8
B52: 9
B53: 10
B54: 11
B55: 12
A57: 8. | B57: Projekti oodatavad tulemused ja mõju
A58: 8.1. | B58: Kirjeldage projekti oodatavaid tulemusi ja mõju välismaal elavate laste ja noorte eesti keele ja meelsuse säilitamiseks.
A59: 8.2. | B59: Kirjeldage projekti oodatavaid tulemusi ja mõju laiemalt tervele kogukonnale.
A62: 9. | B62: Taotleja kinnitus
B63: Tõendan, et taotluses esitatud andmed on õiged:
B65: Allkirjaõigusliku isiku nimi:
B66: Allkiri:
B67: Kuupäev:

Sheet Eelarve
C1: Haridus- ja Teadusministeerium
C2: Eesti Keele Instituut
A5: Väliseesti haridusprojektide toetuse taotlus 2026
A8: Eelarve
A11: Taotleja juriidiline nimi (ärinimi) | C11: =Taotlus!E11 -> 0
A12: Registrikood (olemasolul) | C12: =Taotlus!E12 -> 0
A13: Projekti nimi | C13: =Taotlus!L36 -> 0
A16: Kulud. Eelarverida | C16: Kogus (numbrites) | D16: Ühiku hind (€) | E16: Summa (kogus x ühiku hind) | F16: Selgitused, mh kulutuse kirjeldus, mis annab selge ülevaate planeeritava kulu sisust ja eesmärgist.
A17: 1. | B17: Palgakulud | E17: =SUM(E18:E22) -> 0
A18: 1.1 | E18: =C18*D18 -> 0
A19: 1.2 | E19: =C19*D19 -> 0
A20: 1.3 | E20: =C20*D20 -> 0
A21: 1.4. | E21: =C21*D21 -> 0
A22: 1.5 | E22: =C22*D22 -> 0
A23: 2. | B23: Ruumide rent | E23: =SUM(E24:F26) -> 0
A24: 2.1 | E24: =C24*D24 -> 0
A25: 2.2 | E25: =C25*D25 -> 0
A26: 2.3 | E26: =C26*D26 -> 0
A27: 3. | B27: Sõidukulud | E27: =SUM(E28:E30) -> 0
A28: 3.1. | E28: =C28*D28 -> 0
A29: 3.2. | E29: =C29*D29 -> 0
A30: 3.3. | E30: =C30*D30 -> 0
A31: 4. | B31: Muu | E31: =SUM(E32:E39) -> 0
A32: 4.1. | E32: =C32*D32 -> 0
A33: 4.2. | E33: =C33*D33 -> 0
A34: 4.3. | E34: =C34*D34 -> 0
A35: 4.4. | E35: =C35*D35 -> 0
A36: 4.5. | E36: =C36*D36 -> 0
A37: 4.6. | E37: =C37*D37 -> 0
A38: 4.7. | E38: =C38*D38 -> 0
A39: 4.8. | E39: =C39*D39 -> 0
B40: KOKKU | E40: =SUM(E17)+(E23)+(E27)+(E31) -> 0
B42: Tulud. Eelarverida | E42: Summa | F42: Selgitused. Kaasrahastuse puhul tuleb märkida koostööpartneri nimi, omarahastuse puhul rahastuse allikad. Nii kaas- kui omarahastus võivad olla ka mitterahalised (nt tööpanus, ruumide kasutus). Palun täpsustage, millisteks tegevusteks või kuludeks rahastusallikaid plaanitakse kasutada. Toetuse puhul võib märkida, millise kululiigi katteks toetust taotletakse.
A43: 5. | B43: Õppemaks | E43: =SUM(E44:E45) -> 0
A44: 5.1.
A45: 5.2.
A46: 6. | B46: Omarahastus | E46: =SUM(E47:E49) -> 0
A47: 6.1.
A48: 6.2.
A49: 6.3.
A50: 7. | B50: Kaasrahastus | E50: =SUM(E51:E53) -> 0
A51: 7.1.
A52: 7.2.
A53: 7.3.
A54: 8. | B54: EKI-lt taotletav summa | E54: 0
B55: KOKKU | E55: =SUM(E43)+(E46)+(E50)+(E54) -> 0
A57: Selgitused: kollasega märgitud lahtris on valem, mis arvutab ise kokku või kannab info üle, sellesse kasti käsitsi numbreid mitte sisestada.
A58: NB! Eelarves tuleb täita kõik lahtrid: kogus, ühiku hind ja selgitused.

Sheet Sisuline aruanne
B1: Haridus- ja Teadusministeerium
B2: Eesti Keele Instituut
B5: Väliseesti haridusprojektide toetuse taotlus 2026
B8: Sisuline aruanne
B11: Taotleja juriidiline nimi (ärinimi) | D11: =Taotlus!E11 -> 0
B12: Registrikood (olemasolul) | D12: =Taotlus!E12 -> 0
B13: Projekti nimi | D13: =Taotlus!L36 -> 0
A15: 1. | C15: Palume märkida tegelikud projekti tegevuste toimumise ajad, kohad ja kirjeldada, kas tegevused viidi ellu taotluses toodud mahus
B16: Jrk nr | C16: Projekti tegevused | D16: Kirjeldage lühidalt projektitegevuste elluviimist lähtuvalt taotlusest ja lepingus kirjeldatust | E16: Nimetage projektitegevuste mitteelluviimise põhjused | F16: Muud kommentaarid
B17: 1 | C17: =Taotlus!C44 -> 0
B18: 2 | C18: =Taotlus!C45 -> 0
B19: 3 | C19: =Taotlus!C46 -> 0
B20: 4 | C20: =Taotlus!C47 -> 0
B21: 5 | C21: =Taotlus!C48 -> 0
B22: 6 | C22: =Taotlus!C49 -> 0
B23: 7 | C23: =Taotlus!C50 -> 0
B24: 8 | C24: =Taotlus!C51 -> 0
B25: 9 | C25: =Taotlus!C52 -> 0
B26: 10 | C26: =Taotlus!C53 -> 0
B27: 11 | C27: =Taotlus!C54 -> 0
B28: 12 | C28: =Taotlus!C55 -> 0
A30: 2. | B30: Projekti saavutatud tulemused ja mõju osalenute eesti keele ja meelsuse säilitamisel ning kogukonnale
A32: 3. | B32: Üritustel osalenute arv (võib olla ka hinnanguline)
B34: Allkirjaõigusliku isiku nimi: | D34: =Taotlus!E15 -> 0
B35: Allkiri:
B36: Kuupäev:
B37: Selgitused: kollasega märgitud lahtris on valem, mis arvutab ise kokku või kannab info üle, sellesse kasti käsitsi numbreid mitte sisestada.

Sheet Finantsaruanne
C1: Haridus- ja Teadusministeerium
C2: Eesti Keele Instituut
A5: Väliseesti haridusprojektide toetuse taotlus 2026
A8: Finantsaruanne
A11: Taotleja juriidiline nimi (ärinimi) | C11: =Taotlus!E11 -> 0
A12: Registrikood (olemasolul) | C12: =Taotlus!E12 -> 0
A13: Projekti nimi | C13: =Taotlus!L36 -> 0
A16: Kulud | C16: Kinnitatud eelarve summa | D16: Kulutuse kirjeldus/sisu | E16: Tegelik summa
A17: 1. | B17: Palgakulud | C17: =Eelarve!E17 -> 0 | E17: =SUM(E18:E22,) -> 0
A18: 1.1 | C18: =Eelarve!E18 -> 0
A19: 1.2 | C19: =Eelarve!E19 -> 0
A20: 1.3 | C20: =Eelarve!E20 -> 0
A21: 1.4. | C21: =Eelarve!E21 -> 0
A22: 1.5. | C22: =Eelarve!E22 -> 0
A23: 2. | B23: Ruumide rent | C23: =Eelarve!E23 -> 0 | E23: =SUM(E24:E26) -> 0
A24: 2.1 | C24: =Eelarve!E24 -> 0
A25: 2.2 | C25: =Eelarve!E25 -> 0
A26: 2.3 | C26: =Eelarve!E26 -> 0
A27: 3. | B27: Sõidukulud | C27: =Eelarve!E27 -> 0 | E27: =SUM(E28:E30) -> 0
A28: 3.1. | C28: =Eelarve!E28 -> 0
A29: 3.2. | C29: =Eelarve!E29 -> 0
A30: 3.3. | C30: =Eelarve!E30 -> 0
A31: 4. | B31: Muu | C31: =Eelarve!E31 -> 0 | E31: =SUM(E32:E39) -> 0
A32: 4.1. | C32: =Eelarve!E32 -> 0
A33: 4.2. | C33: =Eelarve!E33 -> 0
A34: 4.3. | C34: =Eelarve!E34 -> 0
A35: 4.4. | C35: =Eelarve!E35 -> 0
A36: 4.5 | C36: =Eelarve!E36 -> 0
A37: 4.6. | C37: =Eelarve!E37 -> 0
A38: 4.7. | C38: =Eelarve!E38 -> 0
A39: 4.8. | C39: =Eelarve!E39 -> 0
B40: KOKKU | C40: =Eelarve!E40 -> 0 | E40: =SUM(E17,E23,E27,E31) -> 0
A42: Tulud | C42: Kinnitatud eelarve summa | D42: Kulutuse kirjeldus/sisu | E42: Tegelik summa
A43: 5. | B43: Õppemaks | C43: =Eelarve!E43 -> 0 | E43: =SUM(E44:E45) -> 0
A44: 5.1. | C44: =Eelarve!E44 -> 0
A45: 5.2. | C45: =Eelarve!E45 -> 0
A46: 6. | B46: Omarahastus | C46: =Eelarve!E46 -> 0 | E46: =SUM(E47:E49) -> 0
A47: 6.1. | C47: =Eelarve!E47 -> 0
A48: 6.2. | C48: =Eelarve!E48 -> 0
A49: 6.3. | C49: =Eelarve!E49 -> 0
A50: 7. | B50: Kaasrahastus | C50: =Eelarve!E50 -> 0 | E50: =SUM(E51:E53) -> 0
A51: 7.1. | C51: =Eelarve!E51 -> 0
A52: 7.2. | C52: =Eelarve!E52 -> 0
A53: 7.3. | C53: =Eelarve!E53 -> 0
A54: 8. | B54: EKI-lt taotletav summa | C54: =Eelarve!E54 -> 0
B55: KOKKU | C55: =Eelarve!E55 -> 0 | E55: =SUM(E43)+(E46)+(E50)+(E54) -> 0
A57: Allkirjaõigusliku isiku nimi: | D57: =Taotlus!E15 -> 0
A58: Allkiri:
A59: Kuupäev:
A60: Selgitused: kollasega märgitud lahtris on valem, mis arvutab ise kokku või kannab info üle, sellesse kasti käsitsi numbreid mitte sisestada.
A61: NB!! Rea lisamisel valem automaatselt üle ei kandu.
